BEGIN:VCALENDAR
VERSION:2.0
PRODID:-//www.frainc.org//NONSGML kigkonsult.se iCalcreator 2.30.10//
CALSCALE:GREGORIAN
METHOD:PUBLISH
UID:0cc13c10-b81d-457b-8422-672ebb601d7b
X-WR-CALDESC:
X-WR-RELCALID:5972f3b234ce373fe616727e2fd6bc5d
X-WR-TIMEZONE:America/New_York
BEGIN:VTIMEZONE
TZID:America/New_York
BEGIN:STANDARD
TZNAME:EST
DTSTART:20201101T020000
TZOFFSETFROM:-0400
TZOFFSETTO:-0500
RDATE:20211107T020000
RDATE:20221106T020000
END:STANDARD
BEGIN:DAYLIGHT
TZNAME:EDT
DTSTART:20210314T020000
TZOFFSETFROM:-0500
TZOFFSETTO:-0400
RDATE:20220313T020000
END:DAYLIGHT
END:VTIMEZONE
BEGIN:VEVENT
UID:5bc17121-efdb-4656-8db8-d1e02c53324a
DTSTAMP:20260421T085012Z
DESCRIPTION:
DTSTART;TZID=America/New_York:20210621T000000
DTEND;TZID=America/New_York:20210621T235900
LOCATION:Navesink Country Club
SUMMARY:FRA Golf Outing 2021
END:VEVENT
END:VCALENDAR
